Package: proDA Version: 1.22.1 Command: rm -rf proDA.buildbin-libdir && mkdir proDA.buildbin-libdir && /Users/biocbuild/BBS/utils/build-universal.sh proDA_1.22.1.tar.gz /Library/Frameworks/R.framework/Resources/bin/R proDA.buildbin-libdir StartedAt: 2025-10-15 19:51:48 -0400 (Wed, 15 Oct 2025) EndedAt: 2025-10-15 19:52:18 -0400 (Wed, 15 Oct 2025) EllapsedTime: 29.8 seconds RetCode: 0 Status: OK PackageFile: proDA_1.22.1.tgz PackageFileSize: 1.212 MiB