Package: proBAMr Version: 1.44.0 Command: /home/biocbuild/R/R/bin/R CMD INSTALL proBAMr StartedAt: 2025-11-13 21:48:11 -0000 (Thu, 13 Nov 2025) EndedAt: 2025-11-13 21:48:59 -0000 (Thu, 13 Nov 2025) EllapsedTime: 47.2 seconds RetCode: 0 Status: OK