Package: proBAMr Version: 1.44.0 Command: /home/biocbuild/R/R/bin/R CMD build --keep-empty-dirs --no-resave-data proBAMr StartedAt: 2025-11-14 04:16:19 -0000 (Fri, 14 Nov 2025) EndedAt: 2025-11-14 04:17:48 -0000 (Fri, 14 Nov 2025) EllapsedTime: 89.0 seconds RetCode: 0 Status: OK PackageFile: proBAMr_1.44.0.tar.gz PackageFileSize: 810.1 KiB