Package: proBAMr Version: 1.42.0 Command: /home/biocbuild/bbs-3.21-bioc/R/bin/R CMD INSTALL proBAMr StartedAt: 2025-10-05 15:39:39 -0400 (Sun, 05 Oct 2025) EndedAt: 2025-10-05 15:40:16 -0400 (Sun, 05 Oct 2025) EllapsedTime: 36.7 seconds RetCode: 0 Status: OK