Package: proBAMr Version: 1.42.0 Command: /home/biocbuild/bbs-3.21-bioc/R/bin/R CMD build --keep-empty-dirs --no-resave-data proBAMr StartedAt: 2025-10-05 19:14:15 -0400 (Sun, 05 Oct 2025) EndedAt: 2025-10-05 19:15:26 -0400 (Sun, 05 Oct 2025) EllapsedTime: 71.1 seconds RetCode: 0 Status: OK PackageFile: proBAMr_1.42.0.tar.gz PackageFileSize: 814.1 KiB