Package: proBAMr Version: 1.42.0 Command: /Library/Frameworks/R.framework/Resources/bin/R CMD INSTALL proBAMr StartedAt: 2025-10-06 17:23:09 -0400 (Mon, 06 Oct 2025) EndedAt: 2025-10-06 17:23:53 -0400 (Mon, 06 Oct 2025) EllapsedTime: 43.9 seconds RetCode: 0 Status: OK