Package: proBAMr Version: 1.42.0 Command: /Library/Frameworks/R.framework/Resources/bin/R CMD build --keep-empty-dirs --no-resave-data proBAMr StartedAt: 2025-10-07 07:09:50 -0400 (Tue, 07 Oct 2025) EndedAt: 2025-10-07 07:11:30 -0400 (Tue, 07 Oct 2025) EllapsedTime: 99.9 seconds RetCode: 0 Status: OK PackageFile: proBAMr_1.42.0.tar.gz PackageFileSize: 814 KiB