Package: proActiv Version: 1.18.0 Command: /home/biocbuild/R/R/bin/R CMD INSTALL proActiv StartedAt: 2025-10-13 20:54:49 -0000 (Mon, 13 Oct 2025) EndedAt: 2025-10-13 20:55:47 -0000 (Mon, 13 Oct 2025) EllapsedTime: 58.3 seconds RetCode: 0 Status: OK