Package: proActiv Version: 1.18.0 Command: /Library/Frameworks/R.framework/Resources/bin/R CMD build --keep-empty-dirs --no-resave-data proActiv StartedAt: 2025-04-21 17:18:38 -0400 (Mon, 21 Apr 2025) EndedAt: 2025-04-21 17:19:05 -0400 (Mon, 21 Apr 2025) EllapsedTime: 27.3 seconds RetCode: 0 Status: OK PackageFile: proActiv_1.18.0.tar.gz PackageFileSize: 2.681 MiB