Package: primirTSS Version: 1.28.0 Command: /home/biocbuild/bbs-3.22-bioc/R/bin/R CMD build --keep-empty-dirs --no-resave-data --md5 primirTSS StartedAt: 2025-11-11 19:28:27 -0500 (Tue, 11 Nov 2025) EndedAt: 2025-11-11 19:29:28 -0500 (Tue, 11 Nov 2025) EllapsedTime: 61.0 seconds RetCode: 0 Status: OK PackageFile: primirTSS_1.28.0.tar.gz PackageFileSize: 3.664 MiB