Package: primirTSS Version: 1.28.0 Command: /Library/Frameworks/R.framework/Resources/bin/R CMD INSTALL primirTSS StartedAt: 2025-11-03 15:47:43 -0500 (Mon, 03 Nov 2025) EndedAt: 2025-11-03 15:48:39 -0500 (Mon, 03 Nov 2025) EllapsedTime: 56.1 seconds RetCode: 0 Status: OK