Package: primirTSS Version: 1.28.0 Command: /Library/Frameworks/R.framework/Resources/bin/R CMD build --keep-empty-dirs --no-resave-data primirTSS StartedAt: 2025-11-03 18:17:20 -0500 (Mon, 03 Nov 2025) EndedAt: 2025-11-03 18:18:25 -0500 (Mon, 03 Nov 2025) EllapsedTime: 65.0 seconds RetCode: 0 Status: OK PackageFile: primirTSS_1.28.0.tar.gz PackageFileSize: 3.662 MiB