Package: primirTSS Version: 1.28.0 Command: rm -rf primirTSS.buildbin-libdir && mkdir primirTSS.buildbin-libdir && /Users/biocbuild/BBS/utils/build-universal.sh primirTSS_1.28.0.tar.gz /Library/Frameworks/R.framework/Resources/bin/R primirTSS.buildbin-libdir StartedAt: 2025-11-04 01:56:32 -0500 (Tue, 04 Nov 2025) EndedAt: 2025-11-04 01:57:32 -0500 (Tue, 04 Nov 2025) EllapsedTime: 60.1 seconds RetCode: 0 Status: OK PackageFile: primirTSS_1.28.0.tgz PackageFileSize: 3.779 MiB