Package: primirTSS Version: 1.26.0 Command: /home/biocbuild/R/R/bin/R CMD build --keep-empty-dirs --no-resave-data primirTSS StartedAt: 2025-10-14 03:38:16 -0000 (Tue, 14 Oct 2025) EndedAt: 2025-10-14 03:39:43 -0000 (Tue, 14 Oct 2025) EllapsedTime: 87.0 seconds RetCode: 0 Status: OK PackageFile: primirTSS_1.26.0.tar.gz PackageFileSize: 3.663 MiB