Package: primirTSS Version: 1.28.0 Command: /Library/Frameworks/R.framework/Resources/bin/R CMD build --keep-empty-dirs --no-resave-data primirTSS StartedAt: 2025-10-31 17:26:41 -0400 (Fri, 31 Oct 2025) EndedAt: 2025-10-31 17:27:08 -0400 (Fri, 31 Oct 2025) EllapsedTime: 27.3 seconds RetCode: 0 Status: OK PackageFile: primirTSS_1.28.0.tar.gz PackageFileSize: 3.663 MiB