Package: primirTSS Version: 1.28.0 Command: rm -rf primirTSS.buildbin-libdir && mkdir primirTSS.buildbin-libdir && /Users/biocbuild/BBS/utils/build-universal.sh primirTSS_1.28.0.tar.gz /Library/Frameworks/R.framework/Resources/bin/R primirTSS.buildbin-libdir StartedAt: 2025-11-02 23:16:27 -0500 (Sun, 02 Nov 2025) EndedAt: 2025-11-02 23:16:46 -0500 (Sun, 02 Nov 2025) EllapsedTime: 19.4 seconds RetCode: 0 Status: OK PackageFile: primirTSS_1.28.0.tgz PackageFileSize: 3.779 MiB