Package: preprocessCore Version: 1.72.0 Command: /home/biocbuild/R/R/bin/R CMD check --install=check:preprocessCore.install-out.txt --library=/home/biocbuild/R/R/site-library --no-vignettes --timings preprocessCore_1.72.0.tar.gz StartedAt: 2025-11-11 13:19:23 -0000 (Tue, 11 Nov 2025) EndedAt: 2025-11-11 13:19:42 -0000 (Tue, 11 Nov 2025) EllapsedTime: 19.0 seconds RetCode: 0 Status: WARNINGS CheckDir: preprocessCore.Rcheck Warnings: 2