Package: preprocessCore Version: 1.72.0 Command: /home/biocbuild/R/R/bin/R CMD build --keep-empty-dirs --no-resave-data preprocessCore StartedAt: 2025-11-11 04:12:07 -0000 (Tue, 11 Nov 2025) EndedAt: 2025-11-11 04:12:08 -0000 (Tue, 11 Nov 2025) EllapsedTime: 1.0 seconds RetCode: 0 Status: OK PackageFile: preprocessCore_1.72.0.tar.gz PackageFileSize: 124.8 KiB