Package: preprocessCore Version: 1.72.0 Command: /home/biocbuild/bbs-3.22-bioc/R/bin/R CMD check --install=check:preprocessCore.install-out.txt --library=/home/biocbuild/bbs-3.22-bioc/R/site-library --timings preprocessCore_1.72.0.tar.gz StartedAt: 2025-11-12 02:53:39 -0500 (Wed, 12 Nov 2025) EndedAt: 2025-11-12 02:53:56 -0500 (Wed, 12 Nov 2025) EllapsedTime: 17.0 seconds RetCode: 0 Status: WARNINGS CheckDir: preprocessCore.Rcheck Warnings: 2