Package: preprocessCore Version: 1.72.0 Command: /home/biocbuild/bbs-3.22-bioc/R/bin/R CMD build --keep-empty-dirs --no-resave-data --md5 preprocessCore StartedAt: 2025-11-11 19:28:26 -0500 (Tue, 11 Nov 2025) EndedAt: 2025-11-11 19:28:27 -0500 (Tue, 11 Nov 2025) EllapsedTime: 1.0 seconds RetCode: 0 Status: OK PackageFile: preprocessCore_1.72.0.tar.gz PackageFileSize: 128 KiB