Package: preprocessCore Version: 1.70.0 Command: /home/biocbuild/bbs-3.21-bioc/R/bin/R CMD check --install=check:preprocessCore.install-out.txt --library=/home/biocbuild/bbs-3.21-bioc/R/site-library --timings preprocessCore_1.70.0.tar.gz StartedAt: 2025-10-09 02:14:14 -0400 (Thu, 09 Oct 2025) EndedAt: 2025-10-09 02:14:32 -0400 (Thu, 09 Oct 2025) EllapsedTime: 18.0 seconds RetCode: 0 Status: WARNINGS CheckDir: preprocessCore.Rcheck Warnings: 2