Package: preprocessCore Version: 1.72.0 Command: /Library/Frameworks/R.framework/Resources/bin/R CMD check --install=check:preprocessCore.install-out.txt --library=/Library/Frameworks/R.framework/Resources/library --no-vignettes --timings preprocessCore_1.72.0.tar.gz StartedAt: 2025-10-31 23:23:50 -0400 (Fri, 31 Oct 2025) EndedAt: 2025-10-31 23:24:18 -0400 (Fri, 31 Oct 2025) EllapsedTime: 27.5 seconds RetCode: 0 Status: WARNINGS CheckDir: preprocessCore.Rcheck Warnings: 2