Package: preprocessCore Version: 1.70.0 Command: /home/biocbuild/R/R/bin/R CMD check --install=check:preprocessCore.install-out.txt --library=/home/biocbuild/R/R/site-library --no-vignettes --timings preprocessCore_1.70.0.tar.gz StartedAt: 2025-09-26 14:01:13 -0000 (Fri, 26 Sep 2025) EndedAt: 2025-09-26 14:01:31 -0000 (Fri, 26 Sep 2025) EllapsedTime: 18.0 seconds RetCode: 0 Status: WARNINGS CheckDir: preprocessCore.Rcheck Warnings: 2