Package: preprocessCore Version: 1.70.0 Command: /Library/Frameworks/R.framework/Resources/bin/R CMD check --install=check:preprocessCore.install-out.txt --library=/Library/Frameworks/R.framework/Resources/library --no-vignettes --timings preprocessCore_1.70.0.tar.gz StartedAt: 2025-10-11 09:19:21 -0400 (Sat, 11 Oct 2025) EndedAt: 2025-10-11 09:19:47 -0400 (Sat, 11 Oct 2025) EllapsedTime: 25.8 seconds RetCode: 0 Status: WARNINGS CheckDir: preprocessCore.Rcheck Warnings: 2