Package: preciseTAD Version: 1.20.0 Command: /home/biocbuild/R/R/bin/R CMD build --keep-empty-dirs --no-resave-data preciseTAD StartedAt: 2025-11-11 04:11:45 -0000 (Tue, 11 Nov 2025) EndedAt: 2025-11-11 04:16:21 -0000 (Tue, 11 Nov 2025) EllapsedTime: 276.1 seconds RetCode: 0 Status: OK PackageFile: preciseTAD_1.20.0.tar.gz PackageFileSize: 4.092 MiB