Package: preciseTAD Version: 1.20.0 Command: /home/biocbuild/bbs-3.22-bioc/R/bin/R CMD INSTALL preciseTAD StartedAt: 2025-11-11 16:06:51 -0500 (Tue, 11 Nov 2025) EndedAt: 2025-11-11 16:07:34 -0500 (Tue, 11 Nov 2025) EllapsedTime: 43.5 seconds RetCode: 0 Status: OK