Package: preciseTAD Version: 1.18.0 Command: /home/biocbuild/bbs-3.21-bioc/R/bin/R CMD INSTALL preciseTAD StartedAt: 2025-09-28 16:16:11 -0400 (Sun, 28 Sep 2025) EndedAt: 2025-09-28 16:16:53 -0400 (Sun, 28 Sep 2025) EllapsedTime: 42.0 seconds RetCode: 0 Status: OK