Package: preciseTAD Version: 1.18.0 Command: rm -rf preciseTAD.buildbin-libdir && mkdir preciseTAD.buildbin-libdir && /Users/biocbuild/BBS/utils/build-universal.sh preciseTAD_1.18.0.tar.gz /Library/Frameworks/R.framework/Resources/bin/R preciseTAD.buildbin-libdir StartedAt: 2025-09-26 15:28:02 -0400 (Fri, 26 Sep 2025) EndedAt: 2025-09-26 15:30:26 -0400 (Fri, 26 Sep 2025) EllapsedTime: 144.1 seconds RetCode: 0 Status: OK PackageFile: preciseTAD_1.18.0.tgz PackageFileSize: 4.774 MiB