Package: prebs Version: 1.50.0 Command: /home/biocbuild/bbs-3.22-bioc/R/bin/R CMD INSTALL prebs StartedAt: 2025-11-13 15:26:41 -0500 (Thu, 13 Nov 2025) EndedAt: 2025-11-13 15:27:17 -0500 (Thu, 13 Nov 2025) EllapsedTime: 35.3 seconds RetCode: 0 Status: OK