Package: prebs Version: 1.50.0 Command: /home/biocbuild/bbs-3.22-bioc/R/bin/R CMD build --keep-empty-dirs --no-resave-data --md5 prebs StartedAt: 2025-11-13 19:27:03 -0500 (Thu, 13 Nov 2025) EndedAt: 2025-11-13 19:29:41 -0500 (Thu, 13 Nov 2025) EllapsedTime: 158.1 seconds RetCode: 0 Status: OK PackageFile: prebs_1.50.0.tar.gz PackageFileSize: 283.3 KiB