Package: pram Version: 1.26.0 Command: /home/biocbuild/bbs-3.22-bioc/R/bin/R CMD INSTALL pram StartedAt: 2025-11-11 15:30:58 -0500 (Tue, 11 Nov 2025) EndedAt: 2025-11-11 15:31:30 -0500 (Tue, 11 Nov 2025) EllapsedTime: 31.2 seconds RetCode: 0 Status: OK