Package: pram Version: 1.26.0 Command: /Library/Frameworks/R.framework/Resources/bin/R CMD build --keep-empty-dirs --no-resave-data pram StartedAt: 2025-11-10 17:23:11 -0500 (Mon, 10 Nov 2025) EndedAt: 2025-11-10 17:23:32 -0500 (Mon, 10 Nov 2025) EllapsedTime: 20.2 seconds RetCode: 0 Status: OK PackageFile: pram_1.26.0.tar.gz PackageFileSize: 2.666 MiB