Package: pqsfinder Version: 2.26.0 Command: /home/biocbuild/bbs-3.22-bioc/R/bin/R CMD INSTALL pqsfinder StartedAt: 2025-11-06 15:15:09 -0500 (Thu, 06 Nov 2025) EndedAt: 2025-11-06 15:15:53 -0500 (Thu, 06 Nov 2025) EllapsedTime: 43.8 seconds RetCode: 0 Status: OK