Package: pqsfinder Version: 2.26.0 Command: /home/biocbuild/bbs-3.22-bioc/R/bin/R CMD build --keep-empty-dirs --no-resave-data --md5 pqsfinder StartedAt: 2025-11-06 19:21:34 -0500 (Thu, 06 Nov 2025) EndedAt: 2025-11-06 19:23:35 -0500 (Thu, 06 Nov 2025) EllapsedTime: 121.1 seconds RetCode: 0 Status: OK PackageFile: pqsfinder_2.26.0.tar.gz PackageFileSize: 373 KiB