Package: ppcseq Version: 1.18.0 Command: /home/biocbuild/bbs-3.22-bioc/R/bin/R CMD INSTALL ppcseq StartedAt: 2025-11-17 17:05:11 -0500 (Mon, 17 Nov 2025) EndedAt: 2025-11-17 17:07:31 -0500 (Mon, 17 Nov 2025) EllapsedTime: 140.0 seconds RetCode: 0 Status: OK