Package: powerTCR Version: 1.30.0 Command: /home/biocbuild/R/R/bin/R CMD INSTALL powerTCR StartedAt: 2025-11-10 21:08:48 -0000 (Mon, 10 Nov 2025) EndedAt: 2025-11-10 21:10:01 -0000 (Mon, 10 Nov 2025) EllapsedTime: 73.6 seconds RetCode: 0 Status: OK