Package: powerTCR Version: 1.30.0 Command: /home/biocbuild/R/R/bin/R CMD build --keep-empty-dirs --no-resave-data powerTCR StartedAt: 2025-11-11 04:10:27 -0000 (Tue, 11 Nov 2025) EndedAt: 2025-11-11 04:11:03 -0000 (Tue, 11 Nov 2025) EllapsedTime: 36.0 seconds RetCode: 0 Status: OK PackageFile: powerTCR_1.30.0.tar.gz PackageFileSize: 331 KiB