Package: powerTCR Version: 1.30.0 Command: /home/biocbuild/bbs-3.22-bioc/R/bin/R CMD check --install=check:powerTCR.install-out.txt --library=/home/biocbuild/bbs-3.22-bioc/R/site-library --timings powerTCR_1.30.0.tar.gz StartedAt: 2025-11-12 02:51:13 -0500 (Wed, 12 Nov 2025) EndedAt: 2025-11-12 02:52:54 -0500 (Wed, 12 Nov 2025) EllapsedTime: 101.1 seconds RetCode: 0 Status: WARNINGS CheckDir: powerTCR.Rcheck Warnings: 1