Package: powerTCR Version: 1.28.0 Command: /Library/Frameworks/R.framework/Resources/bin/R CMD INSTALL powerTCR StartedAt: 2025-10-13 15:12:10 -0400 (Mon, 13 Oct 2025) EndedAt: 2025-10-13 15:13:13 -0400 (Mon, 13 Oct 2025) EllapsedTime: 63.7 seconds RetCode: 0 Status: OK