Package: podkat Version: 1.42.0 Command: /home/biocbuild/bbs-3.22-bioc/R/bin/R CMD build --keep-empty-dirs --no-resave-data --md5 podkat StartedAt: 2025-11-11 19:26:39 -0500 (Tue, 11 Nov 2025) EndedAt: 2025-11-11 19:29:03 -0500 (Tue, 11 Nov 2025) EllapsedTime: 144.1 seconds RetCode: 0 Status: OK PackageFile: podkat_1.42.0.tar.gz PackageFileSize: 1.093 MiB