Package: podkat Version: 1.40.0 Command: /home/biocbuild/bbs-3.21-bioc/R/bin/R CMD INSTALL podkat StartedAt: 2025-10-15 15:28:05 -0400 (Wed, 15 Oct 2025) EndedAt: 2025-10-15 15:29:18 -0400 (Wed, 15 Oct 2025) EllapsedTime: 72.6 seconds RetCode: 0 Status: OK