Package: podkat Version: 1.40.0 Command: /home/biocbuild/bbs-3.21-bioc/R/bin/R CMD build --keep-empty-dirs --no-resave-data podkat StartedAt: 2025-10-15 19:10:54 -0400 (Wed, 15 Oct 2025) EndedAt: 2025-10-15 19:13:18 -0400 (Wed, 15 Oct 2025) EllapsedTime: 144.1 seconds RetCode: 0 Status: OK PackageFile: podkat_1.40.0.tar.gz PackageFileSize: 1.089 MiB