Package: podkat Version: 1.40.0 Command: /home/biocbuild/R/R/bin/R CMD INSTALL podkat StartedAt: 2025-10-02 20:43:04 -0000 (Thu, 02 Oct 2025) EndedAt: 2025-10-02 20:44:54 -0000 (Thu, 02 Oct 2025) EllapsedTime: 110.6 seconds RetCode: 0 Status: OK