Package: podkat Version: 1.40.0 Command: /Library/Frameworks/R.framework/Resources/bin/R CMD INSTALL podkat StartedAt: 2025-10-13 16:43:07 -0400 (Mon, 13 Oct 2025) EndedAt: 2025-10-13 16:44:25 -0400 (Mon, 13 Oct 2025) EllapsedTime: 77.9 seconds RetCode: 0 Status: OK