Package: pmp Version: 1.22.1 Command: /home/biocbuild/bbs-3.22-bioc/R/bin/R CMD INSTALL pmp StartedAt: 2025-11-25 16:28:02 -0500 (Tue, 25 Nov 2025) EndedAt: 2025-11-25 16:28:28 -0500 (Tue, 25 Nov 2025) EllapsedTime: 26.4 seconds RetCode: 0 Status: OK