Package: pmp Version: 1.22.1 Command: /home/biocbuild/bbs-3.22-bioc/R/bin/R CMD build --keep-empty-dirs --no-resave-data --md5 pmp StartedAt: 2025-11-25 19:50:03 -0500 (Tue, 25 Nov 2025) EndedAt: 2025-11-25 19:51:27 -0500 (Tue, 25 Nov 2025) EllapsedTime: 84.1 seconds RetCode: 0 Status: OK PackageFile: pmp_1.22.1.tar.gz PackageFileSize: 4.878 MiB