Package: pmm Version: 1.42.0 Command: /home/biocbuild/bbs-3.22-bioc/R/bin/R CMD check --install=check:pmm.install-out.txt --library=/home/biocbuild/bbs-3.22-bioc/R/site-library --timings pmm_1.42.0.tar.gz StartedAt: 2025-11-14 02:51:05 -0500 (Fri, 14 Nov 2025) EndedAt: 2025-11-14 02:52:40 -0500 (Fri, 14 Nov 2025) EllapsedTime: 95.1 seconds RetCode: 0 Status: OK CheckDir: pmm.Rcheck Warnings: 0