Package: pmm Version: 1.42.0 Command: /home/biocbuild/bbs-3.22-bioc/R/bin/R CMD build --keep-empty-dirs --no-resave-data --md5 pmm StartedAt: 2025-11-11 19:26:00 -0500 (Tue, 11 Nov 2025) EndedAt: 2025-11-11 19:26:23 -0500 (Tue, 11 Nov 2025) EllapsedTime: 23.0 seconds RetCode: 0 Status: OK PackageFile: pmm_1.42.0.tar.gz PackageFileSize: 777 KiB