Package: pmm Version: 1.42.0 Command: /Library/Frameworks/R.framework/Resources/bin/R CMD INSTALL pmm StartedAt: 2025-11-03 15:17:34 -0500 (Mon, 03 Nov 2025) EndedAt: 2025-11-03 15:18:07 -0500 (Mon, 03 Nov 2025) EllapsedTime: 33.4 seconds RetCode: 0 Status: OK