Package: pmm Version: 1.42.0 Command: /Library/Frameworks/R.framework/Resources/bin/R CMD build --keep-empty-dirs --no-resave-data pmm StartedAt: 2025-11-03 18:15:57 -0500 (Mon, 03 Nov 2025) EndedAt: 2025-11-03 18:16:29 -0500 (Mon, 03 Nov 2025) EllapsedTime: 31.9 seconds RetCode: 0 Status: OK PackageFile: pmm_1.42.0.tar.gz PackageFileSize: 776 KiB